BEGIN:VCALENDAR
VERSION:2.0
PRODID:-//Tukios.com/
BEGIN:VEVENT
UID:65dd5822-27d7-410e-8f42-3d151a3fcadb@www.wheelerfuneralhomes.com
DTSTAMP:20260423T233956Z
DTSTART:20260427T220000Z
DTEND:20260427T230000Z
SUMMARY:Memorial Service
DESCRIPTION:
URL:https://www.wheelerfuneralhomes.com/obituaries/cynthia-smearman
LOCATION:Wheeler Funeral Home 712 3rd Street  Brilliant OH 43913
GEO:40.2649719;-80.6286665
END:VEVENT
END:VCALENDAR