BEGIN:VCALENDAR
VERSION:2.0
PRODID:-//Tukios.com/
BEGIN:VEVENT
UID:af99b9a1-39c0-4153-8d1c-9d173b00e049@www.wheelerfuneralhomes.com
DTSTAMP:20260423T234153Z
DTSTART:20260427T190000Z
DTEND:20260427T220000Z
SUMMARY:Celebration of Life
DESCRIPTION:
URL:https://www.wheelerfuneralhomes.com/obituaries/cynthia-smearman
LOCATION:Wheeler Funeral Home 712 3rd Street  Brilliant OH 43913
GEO:40.2649719;-80.6286665
END:VEVENT
END:VCALENDAR