BEGIN:VCALENDAR
VERSION:2.0
PRODID:-//Tukios.com/
BEGIN:VEVENT
UID:6b3e8648-e175-499e-8038-2da3b899d85f@www.wheelerfuneralhomes.com
DTSTAMP:20260420T013912Z
DTSTART:20260429T150000Z
DTEND:20260429T160000Z
SUMMARY:Funeral Service
DESCRIPTION:
URL:https://www.wheelerfuneralhomes.com/obituaries/beverly-mcgoldrick
LOCATION: 101 Longview Avenue  Mingo Junction OH 43938
GEO:40.3315726;-80.6313413
END:VEVENT
END:VCALENDAR