BEGIN:VCALENDAR
VERSION:2.0
PRODID:-//Tukios.com/
BEGIN:VEVENT
UID:38536fc9-9aa9-4239-9254-3d37586ae7f8@www.wheelerfuneralhomes.com
DTSTAMP:20260420T013840Z
DTSTART:20260429T140000Z
DTEND:20260429T150000Z
SUMMARY:Visitation
DESCRIPTION:
URL:https://www.wheelerfuneralhomes.com/obituaries/beverly-mcgoldrick
LOCATION: 101 Longview Avenue  Mingo Junction OH 43938
GEO:40.3315726;-80.6313413
END:VEVENT
END:VCALENDAR